BEGIN:VCALENDAR
VERSION:2.0
PRODID:-//Task Force Italia - ECPv6.15.18//NONSGML v1.0//EN
CALSCALE:GREGORIAN
METHOD:PUBLISH
X-WR-CALNAME:Task Force Italia
X-ORIGINAL-URL:https://taskforceitalia.com
X-WR-CALDESC:Eventi per Task Force Italia
REFRESH-INTERVAL;VALUE=DURATION:PT1H
X-Robots-Tag:noindex
X-PUBLISHED-TTL:PT1H
BEGIN:VTIMEZONE
TZID:UTC
BEGIN:STANDARD
TZOFFSETFROM:+0000
TZOFFSETTO:+0000
TZNAME:UTC
DTSTART:20240101T000000
END:STANDARD
END:VTIMEZONE
BEGIN:VEVENT
DTSTART;TZID=UTC:20250617T090000
DTEND;TZID=UTC:20250617T200000
DTSTAMP:20260423T050845
CREATED:20241107T080252Z
LAST-MODIFIED:20260116T104211Z
UID:8174-1750150800-1750190400@taskforceitalia.com
SUMMARY:Giornata Nazionale - Futuro del lavoro\, scuola e università\, sport & next gen 17-06-2025
DESCRIPTION:Presentazione istituzionale position paper 2026
URL:https://taskforceitalia.com/evento/futuro-del-lavoro-scuola-e-universita-sport-next-gen/
LOCATION:ClubHouse Montecitorio – Roma\, Piazza Montecitorio 116\, Roma\, Italy
CATEGORIES:Futuro del lavoro, scuola e università, sport & next gen,Social Impact
ATTACH;FMTTYPE=image/png:https://taskforceitalia.com/wp-content/uploads/FUTURO-DEL-LAVORO-SCUOLA-UNIVERSITAOCO-SPORT-NEXT-GEN1.png
END:VEVENT
END:VCALENDAR