BEGIN:VCALENDAR
VERSION:2.0
PRODID:-//Task Force Italia - ECPv6.15.18//NONSGML v1.0//EN
CALSCALE:GREGORIAN
METHOD:PUBLISH
X-WR-CALNAME:Task Force Italia
X-ORIGINAL-URL:https://taskforceitalia.com
X-WR-CALDESC:Eventi per Task Force Italia
REFRESH-INTERVAL;VALUE=DURATION:PT1H
X-Robots-Tag:noindex
X-PUBLISHED-TTL:PT1H
BEGIN:VTIMEZONE
TZID:UTC
BEGIN:STANDARD
TZOFFSETFROM:+0000
TZOFFSETTO:+0000
TZNAME:UTC
DTSTART:20250101T000000
END:STANDARD
END:VTIMEZONE
BEGIN:VEVENT
DTSTART;TZID=UTC:20260623T090000
DTEND;TZID=UTC:20260623T194000
DTSTAMP:20260422T115726
CREATED:20250722T071941Z
LAST-MODIFIED:20260415T145757Z
UID:14293-1782205200-1782243600@taskforceitalia.com
SUMMARY:Giornata Nazionale - Futuro del lavoro\, scuola e università\, sport & next gen I
DESCRIPTION:Presentazione istituzionale position paper 2026
URL:https://taskforceitalia.com/evento/giornata-nazionale-futuro-del-lavoro-scuola-e-universita-sport-next-gen-2/
LOCATION:ClubHouse Montecitorio – Roma\, Piazza Montecitorio 116\, Roma\, Italy
CATEGORIES:Futuro del lavoro, scuola e università, sport & next gen,Social Impact
ATTACH;FMTTYPE=image/jpeg:https://taskforceitalia.com/wp-content/uploads/Futuro-del-lavoro_300X200-1.jpg
END:VEVENT
BEGIN:VEVENT
DTSTART;TZID=UTC:20261015T090000
DTEND;TZID=UTC:20261015T194000
DTSTAMP:20260422T115726
CREATED:20250722T071749Z
LAST-MODIFIED:20260407T110643Z
UID:14291-1792054800-1792093200@taskforceitalia.com
SUMMARY:Giornata Nazionale - Futuro del lavoro\, scuola e università\, sport & next gen II
DESCRIPTION:Presentazione istituzionale position paper 2026
URL:https://taskforceitalia.com/evento/giornata-nazionale-futuro-del-lavoro-scuola-e-universita-sport-next-gen/
LOCATION:Campus Navigli di POLIMI GSoM – Ripa di Porta Ticinese 77 – 20143 Milano
CATEGORIES:Futuro del lavoro, scuola e università, sport & next gen,Social Impact
ATTACH;FMTTYPE=image/jpeg:https://taskforceitalia.com/wp-content/uploads/Futuro-del-lavoro_300X200-1.jpg
END:VEVENT
BEGIN:VEVENT
DTSTART;TZID=UTC:20261029T090000
DTEND;TZID=UTC:20261029T133000
DTSTAMP:20260422T115726
CREATED:20260128T161400Z
LAST-MODIFIED:20260319T125651Z
UID:19181-1793264400-1793280600@taskforceitalia.com
SUMMARY:CEOforLIFE Awards 2026 – LAVORO\, SCUOLA E UNIVERSITÀ\, SPORT E NEXT GEN\, E PREVENZIONE\, SALUTE\, WELFARE
DESCRIPTION:Presentazione istituzionale position paper 2026
URL:https://taskforceitalia.com/evento/ceoforlife-awards-2026-lavoro-scuola-e-universita-sport-e-next-gen-e-prevenzione-salute-welfare/
LOCATION:Palazzo Wedekind – Piazza Colonna\, 366\, Roma\, Piazza Colonna\, 366\, Roma
CATEGORIES:CEOforLIFE AWARDS,Futuro del lavoro, scuola e università, sport & next gen,Health & Wellbeing,Lavoro, Scuola, Università, Sport & Next Gen,Prevenzione, salute e welfare
ATTACH;FMTTYPE=image/jpeg:https://taskforceitalia.com/wp-content/uploads/BANNER_GENERICA_360X200.jpg
END:VEVENT
BEGIN:VEVENT
DTSTART;TZID=UTC:20261209T143000
DTEND;TZID=UTC:20261209T190000
DTSTAMP:20260422T115726
CREATED:20260302T095133Z
LAST-MODIFIED:20260305T084947Z
UID:21259-1796826600-1796842800@taskforceitalia.com
SUMMARY:Presentazione Istituzionale Position Paper 2026
DESCRIPTION:Presentazione istituzionale position paper 2026
URL:https://taskforceitalia.com/evento/presentazione-istituzionale-position-paper-2026/
LOCATION:Aula dei gruppi parlamentari\, Camera dei Deputati\, Piazza Monte Citorio\, Roma\, Italy
CATEGORIES:Economia del Mare,Environment,Futuro del lavoro, scuola e università, sport & next gen,Health & Wellbeing,Innovation,Intelligenza artificiale, cyber security e digital transformation,Lavoro, Scuola, Università, Sport & Next Gen,Made in Italy, PMI e Turismo Sostenibile,Prevenzione, salute e welfare,Ricerca e Innovazione,Smart Mobility e Green Cities,Social Impact,Transizione Energetica, Risorse Idriche ed Economia Circolare
ATTACH;FMTTYPE=image/jpeg:https://taskforceitalia.com/wp-content/uploads/IMG-Evento.jpg
END:VEVENT
END:VCALENDAR