BEGIN:VCALENDAR
VERSION:2.0
PRODID:-//Task Force Italia - ECPv6.15.18//NONSGML v1.0//EN
CALSCALE:GREGORIAN
METHOD:PUBLISH
X-ORIGINAL-URL:https://taskforceitalia.com
X-WR-CALDESC:Eventi per Task Force Italia
REFRESH-INTERVAL;VALUE=DURATION:PT1H
X-Robots-Tag:noindex
X-PUBLISHED-TTL:PT1H
BEGIN:VTIMEZONE
TZID:UTC
BEGIN:STANDARD
TZOFFSETFROM:+0000
TZOFFSETTO:+0000
TZNAME:UTC
DTSTART:20240101T000000
END:STANDARD
END:VTIMEZONE
BEGIN:VEVENT
DTSTART;TZID=UTC:20251014T110000
DTEND;TZID=UTC:20251014T194000
DTSTAMP:20260422T215920
CREATED:20241107T080330Z
LAST-MODIFIED:20260123T154318Z
UID:8175-1760439600-1760470800@taskforceitalia.com
SUMMARY:Giornata Nazionale - Futuro del lavoro\, scuola e università\, sport & next gen 14-10-2025
DESCRIPTION:Presentazione istituzionale position paper 2026
URL:https://taskforceitalia.com/evento/futuro-del-lavoro-scuola-e-universita-sport-next-gen-214-10-2025/
LOCATION:Campus Navigli di POLIMI GSoM – Ripa di Porta Ticinese 77\, Milano\, Via Ripa di Porta Ticinese\, 77 Milano\, Milano\, Italy
CATEGORIES:Futuro del lavoro, scuola e università, sport & next gen,Social Impact
ATTACH;FMTTYPE=image/png:https://taskforceitalia.com/wp-content/uploads/FUTURO-DEL-LAVORO-SCUOLA-UNIVERSITAOCO-SPORT-NEXT-GEN1.png
END:VEVENT
END:VCALENDAR