BEGIN:VCALENDAR
VERSION:2.0
PRODID:-//Task Force Italia - ECPv6.15.18//NONSGML v1.0//EN
CALSCALE:GREGORIAN
METHOD:PUBLISH
X-ORIGINAL-URL:https://taskforceitalia.com
X-WR-CALDESC:Eventi per Task Force Italia
REFRESH-INTERVAL;VALUE=DURATION:PT1H
X-Robots-Tag:noindex
X-PUBLISHED-TTL:PT1H
BEGIN:VTIMEZONE
TZID:UTC
BEGIN:STANDARD
TZOFFSETFROM:+0000
TZOFFSETTO:+0000
TZNAME:UTC
DTSTART:20240101T000000
END:STANDARD
END:VTIMEZONE
BEGIN:VEVENT
DTSTART;TZID=UTC:20251002T090000
DTEND;TZID=UTC:20251002T193000
DTSTAMP:20260420T052519
CREATED:20250407T130935Z
LAST-MODIFIED:20260123T141520Z
UID:11987-1759395600-1759433400@taskforceitalia.com
SUMMARY:Giornata Nazionale - Ricerca ed Innovazione 02-10-2025
DESCRIPTION:Presentazione istituzionale position paper 2026
URL:https://taskforceitalia.com/evento/giornata-nazionale-ricerca-ed-innovazione-0302-10-2025/
LOCATION:ClubHouse Montecitorio – Roma\, Piazza Montecitorio 116\, Roma\, Italy
CATEGORIES:Innovation,Ricerca e Innovazione
ATTACH;FMTTYPE=image/png:https://taskforceitalia.com/wp-content/uploads/RICERCA-ED-INNOVAZIONE2.png
END:VEVENT
END:VCALENDAR