BEGIN:VCALENDAR
VERSION:2.0
PRODID:-//Task Force Italia - ECPv6.15.18//NONSGML v1.0//EN
CALSCALE:GREGORIAN
METHOD:PUBLISH
X-ORIGINAL-URL:https://taskforceitalia.com
X-WR-CALDESC:Eventi per Task Force Italia
REFRESH-INTERVAL;VALUE=DURATION:PT1H
X-Robots-Tag:noindex
X-PUBLISHED-TTL:PT1H
BEGIN:VTIMEZONE
TZID:UTC
BEGIN:STANDARD
TZOFFSETFROM:+0000
TZOFFSETTO:+0000
TZNAME:UTC
DTSTART:20240101T000000
END:STANDARD
END:VTIMEZONE
BEGIN:VEVENT
DTSTART;TZID=UTC:20251204T140000
DTEND;TZID=UTC:20251204T193000
DTSTAMP:20260420T083445
CREATED:20250514T151637Z
LAST-MODIFIED:20260130T104024Z
UID:12886-1764856800-1764876600@taskforceitalia.com
SUMMARY:CEOforLIFE Awards - INNOVATION - RICERCA E INNOVAZIONE 04-12-2025
DESCRIPTION:Presentazione istituzionale position paper 2026
URL:https://taskforceitalia.com/evento/ceoforlife-awards-innovation-ricerca-e-innovazione-204-12-2025/
LOCATION:ClubHouse Montecitorio – Roma\, Piazza Montecitorio 116\, Roma\, Italy
CATEGORIES:CEOforLIFE AWARDS,Innovation,Ricerca e Innovazione
ATTACH;FMTTYPE=image/jpeg:https://taskforceitalia.com/wp-content/uploads/INNOVATION.jpg
END:VEVENT
BEGIN:VEVENT
DTSTART;TZID=UTC:20251209T143000
DTEND;TZID=UTC:20251209T180000
DTSTAMP:20260420T083445
CREATED:20250207T084910Z
LAST-MODIFIED:20260206T105115Z
UID:10468-1765290600-1765303200@taskforceitalia.com
SUMMARY:Presentazione Annuale Task Force Italia - Position Paper: Il resoconto dell’Annualità 2025 09-12-2025
DESCRIPTION:Presentazione istituzionale position paper 2026
URL:https://taskforceitalia.com/evento/position-paper-il-resoconto-dellannualita-2025/
LOCATION:Sala della Regina\, Palazzo Montecitorio
CATEGORIES:Futuro del lavoro, scuola e università, sport & next gen,Intelligenza artificiale, cyber security e digital transformation,Lavoro, Scuola, Università, Sport & Next Gen,Made in Italy, PMI e Turismo Sostenibile,Prevenzione, salute e welfare,Ricerca e Innovazione,Smart Mobility e Green Cities,Transizione Energetica, Risorse Idriche ed Economia Circolare
ATTACH;FMTTYPE=image/jpeg:https://taskforceitalia.com/wp-content/uploads/position-paper-anteprima-2.jpg
END:VEVENT
BEGIN:VEVENT
DTSTART;TZID=UTC:20260303T090000
DTEND;TZID=UTC:20260303T160000
DTSTAMP:20260420T083445
CREATED:20250722T082150Z
LAST-MODIFIED:20260407T111654Z
UID:14328-1772528400-1772553600@taskforceitalia.com
SUMMARY:Giornata Nazionale - Ricerca e Innovazione I
DESCRIPTION:Presentazione istituzionale position paper 2026
URL:https://taskforceitalia.com/evento/giornata-nazionale-ricerca-e-innovazione-04/
LOCATION:SANOFI – Via Luigi Bodio 37/b – 20158 Milano\, Via Luigi Bodio 37/b – 20158 Milano
CATEGORIES:Innovation,Ricerca e Innovazione
ATTACH;FMTTYPE=image/jpeg:https://taskforceitalia.com/wp-content/uploads/Ricerca-e-Innovazione_300X200-2.jpg
END:VEVENT
BEGIN:VEVENT
DTSTART;TZID=UTC:20261029T143000
DTEND;TZID=UTC:20261029T190000
DTSTAMP:20260420T083445
CREATED:20250722T114430Z
LAST-MODIFIED:20260319T131337Z
UID:14351-1793284200-1793300400@taskforceitalia.com
SUMMARY:CEOforLIFE Awards 2026 – INTELLIGENZA ARTIFICIALE\, CYBERSECURITY AND DIGITAL TRANSFORMATION\, E RICERCA E INNOVAZIONE
DESCRIPTION:Presentazione istituzionale position paper 2026
URL:https://taskforceitalia.com/evento/ceoforlife-awards-2026-intelligenza-artificiale-cybersecurity-and-digital-transformation-e-ricerca-e-innovazione/
LOCATION:Palazzo Wedekind – Piazza Colonna\, 366\, Roma\, Piazza Colonna\, 366\, Roma
CATEGORIES:CEOforLIFE AWARDS,Innovation,Intelligenza artificiale, cyber security e digital transformation,Ricerca e Innovazione
ATTACH;FMTTYPE=image/jpeg:https://taskforceitalia.com/wp-content/uploads/BANNER_GENERICA_360X200.jpg
END:VEVENT
BEGIN:VEVENT
DTSTART;TZID=UTC:20261209T143000
DTEND;TZID=UTC:20261209T190000
DTSTAMP:20260420T083445
CREATED:20260302T095133Z
LAST-MODIFIED:20260305T084947Z
UID:21259-1796826600-1796842800@taskforceitalia.com
SUMMARY:Presentazione Istituzionale Position Paper 2026
DESCRIPTION:Presentazione istituzionale position paper 2026
URL:https://taskforceitalia.com/evento/presentazione-istituzionale-position-paper-2026/
LOCATION:Aula dei gruppi parlamentari\, Camera dei Deputati\, Piazza Monte Citorio\, Roma\, Italy
CATEGORIES:Economia del Mare,Environment,Futuro del lavoro, scuola e università, sport & next gen,Health & Wellbeing,Innovation,Intelligenza artificiale, cyber security e digital transformation,Lavoro, Scuola, Università, Sport & Next Gen,Made in Italy, PMI e Turismo Sostenibile,Prevenzione, salute e welfare,Ricerca e Innovazione,Smart Mobility e Green Cities,Social Impact,Transizione Energetica, Risorse Idriche ed Economia Circolare
ATTACH;FMTTYPE=image/jpeg:https://taskforceitalia.com/wp-content/uploads/IMG-Evento.jpg
END:VEVENT
END:VCALENDAR